BEGIN:VCALENDAR
VERSION:2.0
PRODID:-//Greatworth and Halse Parish Council//Meeting Calendar//EN
CALSCALE:GREGORIAN
METHOD:PUBLISH
BEGIN:VEVENT
UID:70950-20251103@greatworthparishcouncil.gov.uk
DTSTAMP:20260421T212726Z
DTSTART;VALUE=DATE:20251103
DTEND;VALUE=DATE:20251104
SUMMARY:Full Council Meeting &#8211\\; 3rd November 2025
DESCRIPTION:Full Council Meeting\nView details: https://greatworthparishcouncil.gov.uk/meetings/full-council-meeting/
URL:https://greatworthparishcouncil.gov.uk/meetings/full-council-meeting/
END:VEVENT
END:VCALENDAR
