BEGIN:VCALENDAR
VERSION:2.0
PRODID:-//Greatworth and Halse Parish Council//Meeting Calendar//EN
CALSCALE:GREGORIAN
METHOD:PUBLISH
BEGIN:VEVENT
UID:70941-20250922@greatworthparishcouncil.gov.uk
DTSTAMP:20260421T212322Z
DTSTART;VALUE=DATE:20250922
DTEND;VALUE=DATE:20250923
SUMMARY:Full Council Meeting &#8211\\; 22nd September
DESCRIPTION:Full Council Meeting\nView details: https://greatworthparishcouncil.gov.uk/meetings/full-council-meeting-halse/
URL:https://greatworthparishcouncil.gov.uk/meetings/full-council-meeting-halse/
END:VEVENT
END:VCALENDAR
