BEGIN:VCALENDAR
VERSION:2.0
PRODID:-//Greatworth and Halse Parish Council//Meeting Calendar//EN
CALSCALE:GREGORIAN
METHOD:PUBLISH
BEGIN:VEVENT
UID:70928-20250617@greatworthparishcouncil.gov.uk
DTSTAMP:20260422T002918Z
DTSTART;VALUE=DATE:20250617
DTEND;VALUE=DATE:20250618
SUMMARY:Extraordinary General Meeting
DESCRIPTION:Full Council Meeting\nView details: https://greatworthparishcouncil.gov.uk/meetings/extraordinary-general-meeting/
URL:https://greatworthparishcouncil.gov.uk/meetings/extraordinary-general-meeting/
END:VEVENT
END:VCALENDAR
