BEGIN:VCALENDAR
VERSION:2.0
PRODID:-//Greatworth and Halse Parish Council//Meeting Calendar//EN
CALSCALE:GREGORIAN
METHOD:PUBLISH
BEGIN:VEVENT
UID:70861-20250707@greatworthparishcouncil.gov.uk
DTSTAMP:20260421T225225Z
DTSTART;VALUE=DATE:20250707
DTEND;VALUE=DATE:20250708
SUMMARY:Full Council Meeting &#8211\\; 7th July 2025
DESCRIPTION:Full Council Meeting\nView details: https://greatworthparishcouncil.gov.uk/meetings/full-council-meeting-7th-july-2025-date-subject-to-change/
URL:https://greatworthparishcouncil.gov.uk/meetings/full-council-meeting-7th-july-2025-date-subject-to-change/
END:VEVENT
END:VCALENDAR
