BEGIN:VCALENDAR
VERSION:2.0
PRODID:-//Greatworth and Halse Parish Council//Meeting Calendar//EN
CALSCALE:GREGORIAN
METHOD:PUBLISH
BEGIN:VEVENT
UID:70860-20250428@greatworthparishcouncil.gov.uk
DTSTAMP:20260421T171448Z
DTSTART;VALUE=DATE:20250428
DTEND;VALUE=DATE:20250429
SUMMARY:Annual Parish (Village) Meeting &#8211\\; 28th April 2025. Greatworth School Hall. 7-9pm
DESCRIPTION:Annual Parish Meeting\nView details: https://greatworthparishcouncil.gov.uk/meetings/annual-parish-village-meeting/
URL:https://greatworthparishcouncil.gov.uk/meetings/annual-parish-village-meeting/
END:VEVENT
END:VCALENDAR
