BEGIN:VCALENDAR
VERSION:2.0
PRODID:-//Greatworth and Halse Parish Council//Meeting Calendar//EN
CALSCALE:GREGORIAN
METHOD:PUBLISH
BEGIN:VEVENT
UID:70856-20250512@greatworthparishcouncil.gov.uk
DTSTAMP:20260422T014919Z
DTSTART;VALUE=DATE:20250512
DTEND;VALUE=DATE:20250513
SUMMARY:Annual Parish Council Meeting &#8211\\; 12th May 2025
DESCRIPTION:Full Council Meeting\nView details: https://greatworthparishcouncil.gov.uk/meetings/annual-parish-meeting-12th-may-2025/
URL:https://greatworthparishcouncil.gov.uk/meetings/annual-parish-meeting-12th-may-2025/
END:VEVENT
END:VCALENDAR
