BEGIN:VCALENDAR
VERSION:2.0
PRODID:-//Greatworth and Halse Parish Council//Meeting Calendar//EN
CALSCALE:GREGORIAN
METHOD:PUBLISH
BEGIN:VEVENT
UID:70523-20230424@greatworthparishcouncil.gov.uk
DTSTAMP:20260421T183830Z
DTSTART;VALUE=DATE:20230424
DTEND;VALUE=DATE:20230425
SUMMARY:Annual Parish Meeting &#8211\\; 24th April 2023
DESCRIPTION:Annual Parish Meeting\nView details: https://greatworthparishcouncil.gov.uk/meetings/annual-parish-meeting-24th-april-2023/
URL:https://greatworthparishcouncil.gov.uk/meetings/annual-parish-meeting-24th-april-2023/
END:VEVENT
END:VCALENDAR
