BEGIN:VCALENDAR
VERSION:2.0
PRODID:-//Greatworth and Halse Parish Council//Meeting Calendar//EN
CALSCALE:GREGORIAN
METHOD:PUBLISH
BEGIN:VEVENT
UID:70519-20250106@greatworthparishcouncil.gov.uk
DTSTAMP:20260422T082346Z
DTSTART;VALUE=DATE:20250106
DTEND;VALUE=DATE:20250107
SUMMARY:Full Council Meeting &#8211\\; 6th January 2025
DESCRIPTION:Full Council Meeting\nView details: https://greatworthparishcouncil.gov.uk/meetings/full-council-meeting-6th-january-2025/
URL:https://greatworthparishcouncil.gov.uk/meetings/full-council-meeting-6th-january-2025/
END:VEVENT
END:VCALENDAR
