BEGIN:VCALENDAR
VERSION:2.0
PRODID:-//Greatworth and Halse Parish Council//Meeting Calendar//EN
CALSCALE:GREGORIAN
METHOD:PUBLISH
BEGIN:VEVENT
UID:70515-20240507@greatworthparishcouncil.gov.uk
DTSTAMP:20260421T171449Z
DTSTART;VALUE=DATE:20240507
DTEND;VALUE=DATE:20240508
SUMMARY:Annual Meeting &#8211\\; 7th May 2024
DESCRIPTION:Annual Parish Meeting\nView details: https://greatworthparishcouncil.gov.uk/meetings/annual-meeting-7th-may-2024/
URL:https://greatworthparishcouncil.gov.uk/meetings/annual-meeting-7th-may-2024/
END:VEVENT
END:VCALENDAR
